BEGIN:VCALENDAR
VERSION:2.0
PRODID:-//wp-events-plugin.com//7.2.3.1//EN
BEGIN:VEVENT
UID:24@jugend.elbecamp.de
DTSTART;TZID=Europe/Berlin:20260815T140000
DTEND;TZID=Europe/Berlin:20260815T220000
DTSTAMP:20260108T153902Z
URL:https://jugend.elbecamp.de/veranstaltungen/elbecamp-tag-2026/
SUMMARY:Veranstaltung: ElbeCamp Tag 2026 | JugendElbeCamp
DESCRIPTION:Am Samstag\, 15. August 2026 ab 14:00 Uhr ist endlich wieder ei
 n Tag voller Familienspaß – der ElbeCamp Tag!\n
ATTACH;FMTTYPE=image/jpeg:https://jugend.elbecamp.de/wp-content/uploads/20
 24/08/2024_ElbeCamp-Tag_JM-60-scaled.jpg
CATEGORIES:Familienangebote,Ferienprogramm,Mitmachaktionen für Kinder
LOCATION:JugendElbeCamp\, Falkensteiner Ufer 101\, 22587 Hamburg\, Deutschl
 and
X-APPLE-STRUCTURED-LOCATION;VALUE=URI;X-ADDRESS=Falkensteiner Ufer 101\, 22
 587 Hamburg\, Deutschland;X-APPLE-RADIUS=100;X-TITLE=JugendElbeCamp:geo:0,
 0
END:VEVENT
BEGIN:VTIMEZONE
TZID:Europe/Berlin
X-LIC-LOCATION:Europe/Berlin
BEGIN:DAYLIGHT
DTSTART:20260329T030000
TZOFFSETFROM:+0100
TZOFFSETTO:+0200
TZNAME:CEST
END:DAYLIGHT
END:VTIMEZONE
END:VCALENDAR